BEGIN:VCALENDAR
VERSION:2.0
METHOD:PUBLISH
BEGIN:VEVENT
UID:WILD_APRICOT_EVENT_3737667_SESSION_1
DTSTART:20200220T023000Z
DTEND:20200220T033000Z
SUMMARY:February "Inside Edge" Lunch with Natalie Tink
LOCATION:Whites IGA Head Office\, Bli Bli Village Town Centre\, Building 2\, Level 4\, 310 David Low Way Bli Bli 4560
DESCRIPTION:https://scbwn.org.au/event-3737667\n\n  Inside Edge | Thursday\, 20th February | Bli Bli Boardrooms\n  Our Inside Edge sessions get you up close and personal with our 2019 Sunshine Coast Business Women of the Year winners\, created for our members to gain an inside edge on creating a successful business!\n  Natalie Tink is the Founder and Managing Director of the fashion retail business\, Miss Monogram which opened it's online store in November 2016 & Sunshine Plaza retail store in November 2018.\n  Miss Monogram gives women an opportunity to express their individuality and femininity with bespoke fashion accessories\, including personalised leather bags\, wallets\, wedding gifts\, travel and office accessories.\n  Natalie has established a loyal customer base all over the world and leverages every touchpoint to nurture customer connections and build brand affinity.\n  Natalie is a trailblazer\, arranging paid marketing campaign partnerships with major retailers including Lendlease\, Westfield\, Mirvac and Vicinity. Natalie previously ran a successful national magazine for 20 years\, giving her invaluable marketing insight.\n  Natalie was awarded the 2019 Micro Small Business Woman of the Year and 2012 SCBWN Young Business Woman of the Year while regularly mentoring business owners in the region. Natalie is Mother to Kooper 10\, London 5 and wife of 18 years to Brad.\n  This event is limited and available only for our members.\n  Ticket includes a light lunch.\n
DTSTAMP:20260424T161931Z
END:VEVENT
END:VCALENDAR
