BEGIN:VCALENDAR
VERSION:2.0
METHOD:PUBLISH
BEGIN:VEVENT
UID:WILD_APRICOT_EVENT_3669642_SESSION_1
DTSTART:20200210T204500Z
DTEND:20200210T223000Z
SUMMARY:February Breakfast - Business Bootcamp with the 2019 Award Winners
LOCATION:Surfair Beach Hotel\, 923 David Low Way\, Marcoola QLD 4564
DESCRIPTION:https://scbwn.org.au/event-3669642\n\n\n  Covering all the core functions of business\, this fast-paced\, hard hitting bootcamp style breakfast will have your plans and tactics whipped into shape to tackle the year ahead.\n  Bringing their experiences\, inspiration and a whole lot of hot tips\, the 2019 Sunshine Coast Business Women of the Year award winners will share their insights into their own winning businesses and career growth.\n  Get clear on your:\n      *  Money\n\n\n        *  Marketing\n\n        *  Managing People\n\n        *  Methodically planning\n\n\n        *  Maximising technology and time\n\n        *  Meeting legal and financial requirements\n\n\n  Get your pen at the ready and your mind open\, our business bootcamp breakfast will have the ink running and the ideas flowing.\n  To keep you accountable to your new plan\, why not encourage your business buddy to book a ticket to the event too\, and you can keep one another on track throughout the year ahead.\n\n  \n\n
DTSTAMP:20200227T110301Z
END:VEVENT
END:VCALENDAR
