BEGIN:VCALENDAR
VERSION:2.0
METHOD:PUBLISH
BEGIN:VEVENT
UID:WILD_APRICOT_EVENT_3532570_SESSION_1
DTSTART:20191009T204500Z
DTEND:20191009T223000Z
SUMMARY:October Breakfast - Creating Systems to Elevate Your Customer Experience
LOCATION:The Sebel Pelican Waters\, 38 Mahogany Dr\, Pelican Waters QLD 4551
DESCRIPTION:https://scbwn.org.au/event-3532570\n\n\n\n  Thursday\, October 10th | 6:45 am - 8:30 am\n The Sebel Pelican Waters\, 38 Mahogany Dr\, Pelican Waters QLD 4551\n  This month our focus is on customer service\, and more specifically creating systems to elevate your customer experience! \n  If you're the type of person who seeks to go above and beyond for all your clients/customers but you get tied up with tasks and don't get to deliver the outstanding experience you want?\n  Perhaps you've got tonnes of ideas on what you want your customers to feel/know/receive from your business but you just haven't got around to actioning it.\n  Or\, perhaps you know you need to improve this area of your business and you don't know where to begin!\n\n  Well then this is the breakfast for you!\n  From our expert panel you can learn some incredible ways to make a customer service system that will make your customers feel special and make your business shine in their eyes. \n  This will be a panel discussion looking at a number of facets of customer service and systems with our selected experts: Michelle Hamer - Smart Advice\, Kaitlyn Akers - PCOC Solutions and Sean Lofts - Retail Express.\n\n  What you will learn:\n      * How to manage your customer experience when you are not the only person supplying the service\n\n\n        * Creating customer loyalty and repeat business\n\n\n        * Simple systems for delivering wow factor customer experience \n\n\n        * Productivity gains and efficiencies from implementing simple systems \n\n\n  Book tickets for your sales team so you can all be across the systems and procedures to deliver outstanding customer service experiences.\n
DTSTAMP:20200227T110538Z
END:VEVENT
END:VCALENDAR
