BEGIN:VCALENDAR
VERSION:2.0
METHOD:PUBLISH
BEGIN:VEVENT
UID:WILD_APRICOT_EVENT_3517166_SESSION_1
DTSTART:20190910T023000Z
DTEND:20190910T033000Z
SUMMARY:September "Inside Edge" Lunch with Amanda Yeates
LOCATION:Whites IGA Head Office\,  Bli Bli Village Town Centre\,  Building 2\, Level 4\,  310 David Low Way  Bli Bli 4560
DESCRIPTION:https://scbwn.org.au/event-3517166\n\n   \n\n    September "Inside Edge" Lunch \n    Our Inside Edge sessions get you up close and personal with our Sunshine Coast Business Women of the Year winners\, created for our members to gain an inside edge on creating a successful business.\n    This month's guest speaker is Amanda Yeates who is Deputy Director General at Department of Transport and Main Roads and the 2016 Sunshine Coast Professional Business Woman of the Year.\n\n    Amanda’s career experience has developed her strong abilities in managing stakeholder relationships and negotiating outcomes with multiple\, complex and often competing stakeholder inputs.\n    Amanda is a passionate advocate and supporter of workforce diversity and is committed to fostering and environment and culture that supports a vibrant\, diverse\, collaborative\, safe\, rewarding and high performing workplace. As Chair of the TMR Safety\, health and Wellbeing Governance Committee\, Amanda is dedicated to the physical\, mental and emotional wellbeing of staff across the department.\n    This event is limited and available only for our members. Ticket includes a light lunch.\n\n    Registrations close Friday 6th September - if event has not sold out earlier.\n 
DTSTAMP:20200227T110625Z
END:VEVENT
END:VCALENDAR
