BEGIN:VCALENDAR
VERSION:2.0
METHOD:PUBLISH
BEGIN:VEVENT
UID:WILD_APRICOT_EVENT_3408478_SESSION_1
DTSTART:20190723T023000Z
DTEND:20190723T033000Z
SUMMARY:July "Inside Edge" Lunch
LOCATION:Whites IGA Head Office\,  Bli Bli Village Town Centre\,  Building 2\, Level 4\,  310 David Low Way  Bli Bli 4560
DESCRIPTION:https://scbwn.org.au/event-3408478\n\n   July "Inside Edge" Lunch \n    A close and personal session with our Sunshine Coast Business Women of the Year winners\, created for our members to gain an inside edge on creating a successful business. \n    This month's guest speaker is 2018 Young Business Woman of the Year – Jaymee Martin from YOUI.\n    This event is limited and available only for our members.\n    Registrations close Friday 19th July - if event has not sold out earlier.\n 
DTSTAMP:20260424T160824Z
END:VEVENT
END:VCALENDAR
