BEGIN:VCALENDAR
VERSION:2.0
METHOD:PUBLISH
BEGIN:VEVENT
UID:WILD_APRICOT_EVENT_3408448_SESSION_1
DTSTART:20190618T023000Z
DTEND:20190618T033000Z
SUMMARY:June "Inside Edge" Lunch
LOCATION:Whites IGA Head Office\,  Bli Bli Village Town Centre\,  Building 2\, Level 4\,  310 David Low Way  Bli Bli 4560
DESCRIPTION:https://scbwn.org.au/event-3408448\n\n   June "Inside Edge" Lunch \n    A close and personal session with our Sunshine Coast Business Women of the Year winners\, created for our members to gain an inside edge on creating a successful business. \n    This month's guest speaker is 2018 Sustainable Business Woman of the Year – Joanna Kristoffersen from iJetski.\n    This event is limited and available only for our members.\n    Registrations close Friday 14th June - if event has not sold out earlier.\n 
DTSTAMP:20200227T110712Z
END:VEVENT
END:VCALENDAR
