BEGIN:VCALENDAR
VERSION:2.0
METHOD:PUBLISH
BEGIN:VEVENT
UID:WILD_APRICOT_EVENT_3340752_SESSION_1
DTSTART:20190521T023000Z
DTEND:20190521T033000Z
SUMMARY:May "Inside Edge" Lunch
LOCATION:Whites IGA Head Office\,  Bli Bli Village Town Centre\,  Building 2\, Level 4\,  310 David Low Way  Bli Bli 4560
DESCRIPTION:https://scbwn.org.au/event-3340752\n\n   May "Inside Edge" Lunch \n    A close and personal session with our Sunshine Coast Business Women of the Year winners\, created for our members to gain an inside edge on creating a successful business. \n    This month's guest speaker is 2018 Corporate Business Woman of the Year – Kylie Pitt from Coastal Landscape Supplies.\n\n    This event is limited and available only for our members.\n    Registrations close Friday 17th May\n 
DTSTAMP:20200227T110746Z
END:VEVENT
END:VCALENDAR
