BEGIN:VCALENDAR
VERSION:2.0
METHOD:PUBLISH
BEGIN:VEVENT
UID:WILD_APRICOT_EVENT_3312021_SESSION_1
DTSTART:20190319T023000Z
DTEND:20190319T033000Z
SUMMARY:March "Inside Edge" Lunch
LOCATION:Whites IGA Head Office\,  Bli Bli Village Town Centre\,  Building 2\, Level 4\,  310 David Low Way  Bli Bli 4560
DESCRIPTION:https://scbwn.org.au/event-3312021\n\n   March "Inside Edge" Lunch \n    A close and personal session with our Sunshine Coast Business Women of the Year winners\, created for our members to gain an inside edge on creating a successful business. \n    This event is limited and available only for our members.\n    \n\n 
DTSTAMP:20260424T160703Z
END:VEVENT
END:VCALENDAR
