BEGIN:VCALENDAR
VERSION:2.0
METHOD:PUBLISH
BEGIN:VEVENT
UID:WILD_APRICOT_EVENT_3230429_SESSION_1
DTSTART:20190809T080000Z
DTEND:20190809T123000Z
SUMMARY:SCBWN Business Woman of the Year Awards Gala
LOCATION:The Events Centre Caloundra
DESCRIPTION:https://scbwn.org.au/event-3230429\n\n\n\n\n  You're invited to the Sunshine Coast Business Women's Network's night of nights as we celebrate our 21st anniversary of the highly coveted Business Woman of the Year awards.\n  On Friday the 9th of August the Sunshine Coast Business Women's Network\, together with their valued sponsors\, finalists and guests will celebrate the 21st Annual Awards night recognising and celebrating the outstanding business women in our region.\n  This glamorous gala event is highly regarded on the Sunshine Coast business and social calendar attracting a room of 300+ successful business leaders\, dignitaries and sponsors year on year.\n  The all-female powerhouse trio\, The Kitty Kats\, will be the spectacular entertainment on the night\, helping us to celebrate our many hard-working women of the Sunshine Coast!\n
DTSTAMP:20200227T110636Z
END:VEVENT
END:VCALENDAR
