BEGIN:VCALENDAR
VERSION:2.0
METHOD:PUBLISH
BEGIN:VEVENT
UID:WILD_APRICOT_EVENT_3169564_SESSION_1
DTSTART:20190211T204500Z
DTEND:20190211T230000Z
SUMMARY:Business Bootcamp Breakfast with award winning Sunshine Coast Business Women of the Year
LOCATION:The Lakehouse\, 15 Freshwater St\, Mountain Creek QLD 4557
DESCRIPTION:https://scbwn.org.au/event-3169564\n\n\n\n\n  Whip your business into shape at the Business Bootcamp Breakfast!\n  Start 2019 with a fresh mindset and be inspired by our panel of incredible 2018 Sunshine Coast Business Women of the Year award winners.\n \n Gain leading insight from these incredible business women who are achieving remarkable business success and making huge impact in their industries from their base right here on the Sunshine Coast.\n \n Find out what makes their businesses so successful and pick the business savvy brains of:\n \n Kendall Morton\, Home Care Assistance - Outstanding Business Woman of the Year\n \n Jaymee Martin\, YOUI – 2018 Young Business Woman of the Year\n \n Rebecca Hines\, The Good Guys – Professional Business Woman of the Year\n \n Dione Mauric\, Finn Franchise Brokers – Micro Small Business Woman of the Year\n \n Kylie Pitt\, Coastal Landscape Supplies – Corporate Business Woman of the Year\n \n Joanna Kristoffersen\, iJetski – Sustainable Business Woman of the Year\n \n Are you ready for your best business year yet? Don’t miss out on this Business Boot Camp to prepare yourself for 2019.\n  \nEvent Bookings Close and Dietary requirements due - Friday 8th February\, 2019.  \n\n  Please ensure you understand our Refund and Cancellation Policy.\n  \n\n\n  \n\n  
DTSTAMP:20200227T110843Z
END:VEVENT
END:VCALENDAR
