BEGIN:VCALENDAR
VERSION:2.0
METHOD:PUBLISH
BEGIN:VEVENT
UID:WILD_APRICOT_EVENT_3074800_SESSION_1
DTSTART:20180926T230000Z
DTEND:20180927T030000Z
SUMMARY:SCBWN Conversations for Life with Marion Wands
LOCATION:Goodlife Community Centre\, 100 Buderim Pines Drive\, Buderim
DESCRIPTION:https://scbwn.org.au/event-3074800\n\n\n  \n\n  \n\n\n  \n\n\n  \n\n  \n\n\n
DTSTAMP:20260424T161951Z
END:VEVENT
END:VCALENDAR
