BEGIN:VCALENDAR
VERSION:2.0
METHOD:PUBLISH
BEGIN:VEVENT
UID:WILD_APRICOT_EVENT_3068201_SESSION_1
DTSTART:20181003T014500Z
DTEND:20181003T040000Z
SUMMARY:October Luncheon with Simone Tilley\, National General Manager of Retail Broker Distribution\, ANZ
LOCATION:Maroochy RSL\, Memorial Avenue\, Maroochydore
DESCRIPTION:https://scbwn.org.au/event-3068201\n\n\n\n  \n\n\n     Join us as we interview Simone Tilley\, a senior leader at ANZ about breaking through the glass ceiling and how she worked her way up to be the only female head of the four major bank’s residential broker channel.\n    Simone has a strong breadth of experience across the business landscape working in Commercial\, Corporate and Institutional Banks. She has ~20 years frontline experience in addition to leading her own family's manufacturing business (40 FTE)\, whilst also starting up a packaging business from scratch\, later selling to a multi-national.\n    Simone currently is the GM for ANZ's Retail Broker Division\, responsible for ~56% of ANZ's Australian Retail Divisions lending flows\, Third Party Deposits business ~8% deposit FUM for Australia Division.\n    At the lunch Simone will share her inspiring story plus you'll learn:\n\n        * Key lessons from the corporate world that apply to small business\n\n\n          * Key lessons from small business that apply to the corporate world\n\n          * Insight into pay parity conversations and breaking the glass ceiling\n\n          * How to have conversations around pay rises\n\n          * How to find comfort and confidence in your own voice and opinions\n\n    \n\n    \nFREE CHILDMINDING SERVICE FOR THIS LUNCH\n\n    Register your child/ren by Friday 28th September by emailing Isabelle at coordinator@scbwn.org.au.  This service is complimentary\, running from 11:30am - 2:00pm.  Children must be pre-registered to allow for the correct allocation of carers to children.\n\n    Event Bookings Close and Dietary requirements due - Friday 28th September\n\n    Please ensure you understand our Refund and Cancellation Policy.\n 
DTSTAMP:20200227T110933Z
END:VEVENT
END:VCALENDAR
