BEGIN:VCALENDAR
VERSION:2.0
METHOD:PUBLISH
BEGIN:VEVENT
UID:WILD_APRICOT_EVENT_2915162_SESSION_1
DTSTART:20180612T033000Z
DTEND:20180612T053000Z
SUMMARY:LEVEL-UP Program (session 1 of 3)
LOCATION:
DESCRIPTION:https://scbwn.org.au/event-2915162\n\n\n\n  \nLEVEL-Up Program\n  On behalf of SCBWN and the Sunshine Coast Council\, we invite you to attend 3 sessions of sponsored training to work on your business rather than thinking you are too busy and need to always work in your business. \n  This will not cost you any money however will be an investment of your time in building your business.\n\n  The Level Up program is a Sunshine Coast Council funded program aimed at helping local startups\, small and medium businesses connect to and fully utilise digital tools\, innovation principles and business solutions to enable them to improve their productivity\, profitability and ability to compete nationally and internationally\, where desired.\n  Sunshine Coast Council has made available 3 programs exclusively for the SCBWN members. This is an invitation only program and will be capped to 20 participants.\n  The sessions will be held at the SPARK Bureau in Ocean Street Maroochydore and facilitated by a professional facilitator\, Yvette Adams who the Council has appointed. The focus of the programs are\;\n  Measuring Customer experience – 12 June 1.30 – 3.30\n  • Learn how to use online systems to run surveys\, polls and more to assess if customers are satisfied with your service?\n  Streamline and Automate – 14 June 9.30 – 11.30\n  • Learn how to streamline and automate some of your business operations online through the use of APIs\, and add-ons.\n  Value of Open Data – 26 June 9.30 – 11.30\n  • Learn what Open Data is and how you can use it in your business\, data analytics & reporting including identifying your businesses KPIs\n  The facilitator will expand on these concepts and how you can get the return on your investment from your time and gain new skills to improve your productivity\, profitability and ability to compete nationally and internationally.\n  To find out more about the Level Up program please click here https://levelup.sunshinecoast.qld.gov.au/.  \n  If you have any questions please email me and I will respond as soon as possible.\n  We look forward to welcoming you to our technology workshops.\n  Cheers\n  Brenda Jamnik\n Professional Development Chair\nSunshine Coast Business Women's Network\n  \n\n\n  \n\n\n
DTSTAMP:20200227T111057Z
END:VEVENT
BEGIN:VEVENT
UID:WILD_APRICOT_EVENT_2915162_SESSION_2
DTSTART:20180613T233000Z
DTEND:20180614T013000Z
SUMMARY:LEVEL-UP Program (session 2 of 3)
LOCATION:
DESCRIPTION:https://scbwn.org.au/event-2915162\n\n\n\n  \nLEVEL-Up Program\n  On behalf of SCBWN and the Sunshine Coast Council\, we invite you to attend 3 sessions of sponsored training to work on your business rather than thinking you are too busy and need to always work in your business. \n  This will not cost you any money however will be an investment of your time in building your business.\n\n  The Level Up program is a Sunshine Coast Council funded program aimed at helping local startups\, small and medium businesses connect to and fully utilise digital tools\, innovation principles and business solutions to enable them to improve their productivity\, profitability and ability to compete nationally and internationally\, where desired.\n  Sunshine Coast Council has made available 3 programs exclusively for the SCBWN members. This is an invitation only program and will be capped to 20 participants.\n  The sessions will be held at the SPARK Bureau in Ocean Street Maroochydore and facilitated by a professional facilitator\, Yvette Adams who the Council has appointed. The focus of the programs are\;\n  Measuring Customer experience – 12 June 1.30 – 3.30\n  • Learn how to use online systems to run surveys\, polls and more to assess if customers are satisfied with your service?\n  Streamline and Automate – 14 June 9.30 – 11.30\n  • Learn how to streamline and automate some of your business operations online through the use of APIs\, and add-ons.\n  Value of Open Data – 26 June 9.30 – 11.30\n  • Learn what Open Data is and how you can use it in your business\, data analytics & reporting including identifying your businesses KPIs\n  The facilitator will expand on these concepts and how you can get the return on your investment from your time and gain new skills to improve your productivity\, profitability and ability to compete nationally and internationally.\n  To find out more about the Level Up program please click here https://levelup.sunshinecoast.qld.gov.au/.  \n  If you have any questions please email me and I will respond as soon as possible.\n  We look forward to welcoming you to our technology workshops.\n  Cheers\n  Brenda Jamnik\n Professional Development Chair\nSunshine Coast Business Women's Network\n  \n\n\n  \n\n\n
DTSTAMP:20200227T111057Z
END:VEVENT
BEGIN:VEVENT
UID:WILD_APRICOT_EVENT_2915162_SESSION_3
DTSTART:20180625T233000Z
DTEND:20180626T013000Z
SUMMARY:LEVEL-UP Program (session 3 of 3)
LOCATION:
DESCRIPTION:https://scbwn.org.au/event-2915162\n\n\n\n  \nLEVEL-Up Program\n  On behalf of SCBWN and the Sunshine Coast Council\, we invite you to attend 3 sessions of sponsored training to work on your business rather than thinking you are too busy and need to always work in your business. \n  This will not cost you any money however will be an investment of your time in building your business.\n\n  The Level Up program is a Sunshine Coast Council funded program aimed at helping local startups\, small and medium businesses connect to and fully utilise digital tools\, innovation principles and business solutions to enable them to improve their productivity\, profitability and ability to compete nationally and internationally\, where desired.\n  Sunshine Coast Council has made available 3 programs exclusively for the SCBWN members. This is an invitation only program and will be capped to 20 participants.\n  The sessions will be held at the SPARK Bureau in Ocean Street Maroochydore and facilitated by a professional facilitator\, Yvette Adams who the Council has appointed. The focus of the programs are\;\n  Measuring Customer experience – 12 June 1.30 – 3.30\n  • Learn how to use online systems to run surveys\, polls and more to assess if customers are satisfied with your service?\n  Streamline and Automate – 14 June 9.30 – 11.30\n  • Learn how to streamline and automate some of your business operations online through the use of APIs\, and add-ons.\n  Value of Open Data – 26 June 9.30 – 11.30\n  • Learn what Open Data is and how you can use it in your business\, data analytics & reporting including identifying your businesses KPIs\n  The facilitator will expand on these concepts and how you can get the return on your investment from your time and gain new skills to improve your productivity\, profitability and ability to compete nationally and internationally.\n  To find out more about the Level Up program please click here https://levelup.sunshinecoast.qld.gov.au/.  \n  If you have any questions please email me and I will respond as soon as possible.\n  We look forward to welcoming you to our technology workshops.\n  Cheers\n  Brenda Jamnik\n Professional Development Chair\nSunshine Coast Business Women's Network\n  \n\n\n  \n\n\n
DTSTAMP:20200227T111057Z
END:VEVENT
END:VCALENDAR
