BEGIN:VCALENDAR
VERSION:2.0
METHOD:PUBLISH
BEGIN:VEVENT
UID:WILD_APRICOT_EVENT_2870064_SESSION_1
DTSTART:20181212T203000Z
DTEND:20181212T230000Z
SUMMARY:Christmas Champagne Celebration featuring our special Christmas Markets
LOCATION:The Events Centre\, 20 Minchinton Street\, Caloundra
DESCRIPTION:https://scbwn.org.au/event-2870064\n\n\n\n  \n\n\n  Come home to your business 'family' this year and enjoy a beautiful champagne Christmas celebration.  \n  There will be bubbles\, baubles and a very special musical performance for your enjoyment. \n  We will be getting your mindset ready to chase your dreams in 2019 and making sure that you enter the holiday season set to dream up your grandest vision for action in 2019.\n  PLUS\, you can nail your Christmas Gift shopping with our members Christmas Market.  \n  What you can expect from this breakfast:\n      * Champagne on arrival \n\n        * A delicious breakfast by our partners at The Event Centre\n\n        * Be inspired to make 2019 your biggest year yet\n\n        * Get a head start on your Christmas shopping at our Christmas markets\n\n        * A beautiful musical performance\n\n  We will also be sharing with you our 2018 Bursary recipients and giving you the chance to gift back with our Giving Tree.  \n  This is our chance to celebrate you and thank you for the wonderful year of support that you have shown us.  \n  Join us for this truly special morning of celebration and dream big with bubbles and baubles!\n  \nGiving Tree for Laurel Place\n  \n\n  \n\n  \n\n  \nFREE CHILDMINDING SERVICE FOR THIS BREAKFAST\n\n  Register your child/ren by emailing Isabelle at coordinator@scbwn.org.au.  This service is complimentary\, running from 6.30am - 9.00am.  Children must be pre-registered to allow for the correct allocation of carers to children. Please register by 7th December.\n\n  Event Bookings Close and Dietary requirements due - Friday 7th December \n  Please ensure you understand our Refund and Cancellation Policy.\n
DTSTAMP:20260424T160803Z
END:VEVENT
END:VCALENDAR
