BEGIN:VCALENDAR
VERSION:2.0
METHOD:PUBLISH
BEGIN:VEVENT
UID:WILD_APRICOT_EVENT_2870052_SESSION_1
DTSTART:20180611T203000Z
DTEND:20180611T223000Z
SUMMARY:June AGM Breakfast with Jeanette Allom-Hill
LOCATION:The Lakehouse\, 15 Freshwater Street\, Mountain Creek
DESCRIPTION:https://scbwn.org.au/event-2870052\n\n\n\n  \n\n  \n\n  \nTickets Now Closed for the \n  \nAGM BREAKFAST\n\n     with Jeanette Allom-Hill      \n      Jeanette Allom-Hill is a highly experienced Senior Manager\, a proven leader and an expert in Change Management. She has a strong history of creating positive and sustainable cultural change within large multifaceted organisations and has a passion for leading large teams though transformational change and helping business embed and sustain change in order to lift delivery and productivity across the whole organisation.      \n      A highly respected and sought after expert in the field of Strategy and Change Leadership\, as well as the Managing Director of a Company founded on the belief that Change Mastery is a fundamental capability for success\, Jeanette joins the Sunshine Coast Business Women's Network for their AGM to discuss the topic: 'Change - leading\, managing and coping'.\n      \n      \n   Please ensure you understand our Refund and Cancellation Policy.\n  \n\n  \n\n\n
DTSTAMP:20200227T111108Z
END:VEVENT
END:VCALENDAR
