BEGIN:VCALENDAR
VERSION:2.0
METHOD:PUBLISH
BEGIN:VEVENT
UID:WILD_APRICOT_EVENT_2864573_SESSION_1
DTSTART:20180410T080000Z
DTEND:20180410T103000Z
SUMMARY:2018 SCBWN Business Woman of the Year Awards Launch
LOCATION:Pacific Motor Group\, 120 Sugar Road\, Alexandra Headland
DESCRIPTION:https://scbwn.org.au/event-2864573\n\n\n\n  \nJoin us to officially launch the 2018 Sunshine Coast Business Women's Network Awards and hear from some of our incredible 2017 award winners! \n\n  \nWhat have the Awards done for me?\n  \nHear from 2017 Award Winners \n  \n Elaine Jobson\, International CEO Jetts Fitnes\n Outstanding Business Woman of the Year\n  Jodie Hedley-Ward\, McGrath Caloundra\n Corporate Business Woman of the Year\n  Anne Gibson\, The Micro Gardener\n Sustainable Business Woman of the Year\n  as they tell us about their year that has been as an Award Winner!\n  Please ensure you understand our Refund and Cancellation Policy.\n
DTSTAMP:20200227T111155Z
END:VEVENT
END:VCALENDAR
